BEGIN:VCALENDAR
VERSION:2.0
PRODID:-//ChamberMaster//Event Calendar 2.0//EN
METHOD:PUBLISH
X-PUBLISHED-TTL:P3D
REFRESH-INTERVAL:P3D
CALSCALE:GREGORIAN
BEGIN:VEVENT
DTSTART:20140627T180000Z
DTEND:20140805T030000Z
X-MICROSOFT-CDO-ALLDAYEVENT:FALSE
SUMMARY:39 Days of July
DESCRIPTION:39 Consecutive Days of Music\, Fun and Festivities right downtown in Duncan\, B.C.  Join us on Facebook: Duncan-Cowichan-Summer-Festival and Duncan Daze
X-ALT-DESC;FMTTYPE=text/html:39 Consecutive Days of Music\, Fun and Festivities right downtown in Duncan\, B.C.&nbsp\; Join us on Facebook: Duncan-Cowichan-Summer-Festival and Duncan Daze
LOCATION:..at the Charles Hoey Memorial Park (The Train Station) and The City Square\, public market and Stage...
UID:e.1867.147
SEQUENCE:3
DTSTAMP:20260420T151747Z
URL:https://www.duncancc.bc.ca/events/details/39-days-of-july-06-27-2014-147
END:VEVENT

END:VCALENDAR
