BEGIN:VCALENDAR
VERSION:2.0
PRODID:-//ChamberMaster//Event Calendar 2.0//EN
METHOD:PUBLISH
X-PUBLISHED-TTL:P3D
REFRESH-INTERVAL:P3D
CALSCALE:GREGORIAN
BEGIN:VEVENT
DTSTART:20140627T180000Z
DTEND:20140629T220000Z
X-MICROSOFT-CDO-ALLDAYEVENT:FALSE
SUMMARY:All Things Green and Bicycle Day
DESCRIPTION:Check back for more info and particulars with the Brochure or on-line web www.cowichanfestival.com
X-ALT-DESC;FMTTYPE=text/html:Check back for more info and particulars with the Brochure or on-line web www.cowichanfestival.com
LOCATION:Charles Hoey Park (Train Station)
UID:e.1867.148
SEQUENCE:3
DTSTAMP:20260420T152041Z
URL:https://www.duncancc.bc.ca/events/details/all-things-green-and-bicycle-day-06-27-2014-148
END:VEVENT

END:VCALENDAR
