BEGIN:VCALENDAR
VERSION:2.0
PRODID:-//ChamberMaster//Event Calendar 2.0//EN
METHOD:PUBLISH
X-PUBLISHED-TTL:P3D
REFRESH-INTERVAL:P3D
CALSCALE:GREGORIAN
BEGIN:VEVENT
DTSTART:20260522T000000Z
DTEND:20260522T030000Z
X-MICROSOFT-CDO-ALLDAYEVENT:FALSE
SUMMARY:Art & Appies
DESCRIPTION:Art & Appies Night is an early evening\, self-guided cultural stroll through Downtown Duncan. Participating galleries\, studios\, and select retail shops transform their spaces into mini-exhibit stops featuring local artists\, curated collections or creative demonstrations.? Guests enjoy a small bite or dessert from Cure Meat & Cheese at each stop and take home small gifts. The night blends art appreciation\, light socializing\, and downtown exploration. ? Participating Shops and Galleries: Judy Hill Gallery Station Street Gallery Imagine That Excellent Frameworks\; the Home of E.J. Hughes Cowichan Public Art Gallery ?Little Bird Tickets: $23 Purchase here: https://www.downtownduncan.ca/artandappies
X-ALT-DESC;FMTTYPE=text/html:Art &amp\; Appies Night is an early evening\, self-guided cultural stroll through Downtown Duncan. Participating galleries\, studios\, and select retail shops transform their spaces into mini-exhibit stops featuring local artists\, curated collections or creative demonstrations.? Guests enjoy a small bite or dessert from Cure Meat &amp\; Cheese at each stop and take home small gifts. The night blends art appreciation\, light socializing\, and downtown exploration. ? Participating Shops and Galleries: Judy Hill Gallery Station Street Gallery Imagine That Excellent Frameworks\; the Home of E.J. Hughes Cowichan Public Art Gallery ?Little Bird Tickets: $23 Purchase here: https://www.downtownduncan.ca/artandappies
LOCATION:Downtown Duncan\, Multiple LocaTIONS
UID:e.1867.14151
SEQUENCE:3
DTSTAMP:20260425T222955Z
URL:https://www.duncancc.bc.ca/events/details/art-appies-14151
END:VEVENT

END:VCALENDAR
