BEGIN:VCALENDAR
VERSION:2.0
PRODID:-//ChamberMaster//Event Calendar 2.0//EN
METHOD:PUBLISH
X-PUBLISHED-TTL:P3D
REFRESH-INTERVAL:P3D
CALSCALE:GREGORIAN
BEGIN:VEVENT
DTSTART:20260516T180000Z
DTEND:20260517T000000Z
X-MICROSOFT-CDO-ALLDAYEVENT:FALSE
SUMMARY:Averill Creek Vineyard Open House
DESCRIPTION:Join us at Averill Creek Vineyard as we welcome the return of spring at our annual Open House on Saturday\, May 16\, from 11am to 5pm. Kick off the day with a free winery tour at 11am led by vineyard owner Andy. After the tour\, Andy will be offering $20 tastings of his curated reserve wines until 4pm. It's a special chance to go behind the scenes and learn more about Averill Creek from Andy himself. Enjoy $2 tastings of a selection of our wines\, explore the range\, and discover a few new favourites along the way. Bicycle Pizza will be set up on the patio with their portable ovens\, serving fresh small pizzas available for purchase. We'll also be offering special discounts on case purchases throughout the day. Come celebrate spring with us at the vineyard.
X-ALT-DESC;FMTTYPE=text/html:Join us at Averill Creek Vineyard as we welcome the return of spring at our annual Open House on Saturday\, May 16\, from 11am to 5pm. Kick off the day with a free winery tour at 11am led by vineyard owner Andy. After the tour\, Andy will be offering $20 tastings of his curated reserve wines until 4pm. It&rsquo\;s a special chance to go behind the scenes and learn more about Averill Creek from Andy himself. Enjoy $2 tastings of a selection of our wines\, explore the range\, and discover a few new favourites along the way. Bicycle Pizza will be set up on the patio with their portable ovens\, serving fresh small pizzas available for purchase. We&rsquo\;ll also be offering special discounts on case purchases throughout the day. Come celebrate spring with us at the vineyard.
LOCATION:6552 North Rd\, Duncan\, BC V9L 6K9
UID:e.1867.14104
SEQUENCE:3
DTSTAMP:20260425T222618Z
URL:https://www.duncancc.bc.ca/events/details/averill-creek-vineyard-open-house-14104
END:VEVENT

END:VCALENDAR
