BEGIN:VCALENDAR
VERSION:2.0
PRODID:-//ChamberMaster//Event Calendar 2.0//EN
METHOD:PUBLISH
X-PUBLISHED-TTL:P3D
REFRESH-INTERVAL:P3D
CALSCALE:GREGORIAN
BEGIN:VEVENT
DTSTART;VALUE=DATE:20260505
DTEND;VALUE=DATE:20260506
TRANSP:TRANSPARENT
X-MICROSOFT-CDO-ALLDAYEVENT:TRUE
SUMMARY:BC Youth Week with CVRDREC
DESCRIPTION:BC Youth Week is a provincial celebration of youth\, held annually during the first week of May. It is a week of fun-filled interaction and a celebration intended to build a strong connection between youth and their communities. Join CVRDREC and our Community Partners in a celebration of youth during this week of FREE events.\n\n\n\nEvents will take place at all CVRD Recreation Centres and include sports drop-ins\, art programs\, Sound Chek' 26 Youth Variety Show and more.
X-ALT-DESC;FMTTYPE=text/html:<p><span style="color:rgba(0\,0\,0\,var(--O42jJQ\,1))">BC Youth Week is a provincial celebration of youth\, held annually during the first week of May. It is a week of fun-filled interaction and a celebration intended to build a strong connection between youth and their communities.&nbsp\;Join CVRDREC and our Community Partners in a celebration<span style="color:rgba(0\,0\,0\,var(--O42jJQ\,1))"> </span>of youth during this week of FREE events.<br />\n<br />\nEvents will take place at all CVRD Recreation Centres and include sports drop-ins\, art programs\, Sound Chek&#39\; 26 Youth Variety Show and more.</span><br />\n&nbsp\;</p>\n\n<div>\n<div>&nbsp\;</div>\n\n<div>&nbsp\;</div>\n</div>\n\n<div>&nbsp\;</div>\n
LOCATION:Cowichan Community Cowichan Lake Recreation Kerry Park Recreation Centre Shawnigan Lake Community Centre
UID:e.1867.14147
SEQUENCE:3
DTSTAMP:20260425T222718Z
URL:https://www.duncancc.bc.ca/events/details/bc-youth-week-with-cvrdrec-05-05-2026-14147
END:VEVENT

END:VCALENDAR
