BEGIN:VCALENDAR
VERSION:2.0
PRODID:-//ChamberMaster//Event Calendar 2.0//EN
METHOD:PUBLISH
X-PUBLISHED-TTL:P3D
REFRESH-INTERVAL:P3D
CALSCALE:GREGORIAN
BEGIN:VEVENT
DTSTART:20260509T180000Z
DTEND:20260511T020000Z
X-MICROSOFT-CDO-ALLDAYEVENT:FALSE
SUMMARY:Celebrate Mother’s Day Weekend at Merridale
DESCRIPTION:May 9th Mother's Day Market   11:00   5:00pm We're hosting a pop-up market in our courtyard to celebrate the moms and mother figures in our lives. We've invited talented local makers to showcase their creations. May 10th Mother's Day Brunch - 10:00-2:15pm Available by reservation only Mother's Day Dinner   4:30-7:00pm Regular dinner service with a featured special - walk-ins welcome.
X-ALT-DESC;FMTTYPE=text/html:May 9th Mother&rsquo\;s Day Market &ndash\; 11:00 &ndash\; 5:00pm We&rsquo\;re hosting a pop-up market in our courtyard to celebrate the moms and mother figures in our lives. We&rsquo\;ve invited talented local makers to showcase their creations. May 10th Mother&rsquo\;s Day Brunch - 10:00-2:15pm Available by reservation only Mother&rsquo\;s Day Dinner &ndash\; 4:30-7:00pm Regular dinner service with a featured special - walk-ins welcome.
LOCATION:1230 Merridale Road Cobble Hill\, BC
UID:e.1867.14102
SEQUENCE:3
DTSTAMP:20260426T000326Z
URL:https://www.duncancc.bc.ca/events/details/celebrate-mother-s-day-weekend-at-merridale-14102
END:VEVENT

END:VCALENDAR
