BEGIN:VCALENDAR
VERSION:2.0
PRODID:-//ChamberMaster//Event Calendar 2.0//EN
METHOD:PUBLISH
X-PUBLISHED-TTL:P3D
REFRESH-INTERVAL:P3D
CALSCALE:GREGORIAN
BEGIN:VEVENT
DTSTART:20180529T233000Z
DTEND:20180530T023000Z
X-MICROSOFT-CDO-ALLDAYEVENT:FALSE
SUMMARY:Cowichan Green Community AGM
DESCRIPTION:Join us for an evening of community anchored by shared food and updates on what the Cowichan's Food Recovery Program is up to. This is a potluck style dinner which we have partnered with Transition Cowichans 24 hour eat local challenge (https://www.facebook.com/events/152531535576713/).Please bring a local food dish to add to the dinner table and check out our website for more details!
X-ALT-DESC;FMTTYPE=text/html:Join us for an evening of community anchored by shared food and updates on what the Cowichan&rsquo\;s Food Recovery Program is up to. This is a potluck style dinner which we have partnered with Transition Cowichans 24 hour eat local challenge (https://www.facebook.com/events/152531535576713/).Please bring a local food dish to add to the dinner table and check out our website for more details!
LOCATION:Duncan Reformed Church (930 Duncan Street) Duncan\, BC
UID:e.1867.6719
SEQUENCE:3
DTSTAMP:20260422T073100Z
URL:https://www.duncancc.bc.ca/events/details/cowichan-green-community-agm-6719
END:VEVENT

END:VCALENDAR
