BEGIN:VCALENDAR
VERSION:2.0
PRODID:-//ChamberMaster//Event Calendar 2.0//EN
METHOD:PUBLISH
X-PUBLISHED-TTL:P3D
REFRESH-INTERVAL:P3D
CALSCALE:GREGORIAN
BEGIN:VEVENT
DTSTART:20260612T190000Z
DTEND:20260823T190000Z
X-MICROSOFT-CDO-ALLDAYEVENT:FALSE
SUMMARY:Dirty Rotten Scoundrels
DESCRIPTION:Travel to the glamorous French Riviera for the ruthlessly funny Tony-nominated musical\, Dirty Rotten Scoundrels\, inspired by the hit 1988 film! A small-time con man and a successful swindler wage a side-splitting battle of wits to dupe an American heiress! Who will win the big bet? Content Advisory: Ages 13+   Some adult themes\, innuendo\, ridicule and mockery that may be offensive to some   Mild profanity   Stage violence and gunshots
X-ALT-DESC;FMTTYPE=text/html:Travel to the glamorous French Riviera for the ruthlessly funny Tony-nominated musical\, Dirty Rotten Scoundrels\, inspired by the hit 1988 film! A small-time con man and a successful swindler wage a side-splitting battle of wits to dupe an American heiress! Who will win the big bet? Content Advisory: Ages 13+ &bull\; Some adult themes\, innuendo\, ridicule and mockery that may be offensive to some &bull\; Mild profanity &bull\; Stage violence and gunshots
LOCATION:The Chemainus Theatre 9737 Chemainus Rd.
UID:e.1867.13798
SEQUENCE:3
DTSTAMP:20260419T182026Z
URL:https://www.duncancc.bc.ca/events/details/dirty-rotten-scoundrels-13798
END:VEVENT

END:VCALENDAR
