BEGIN:VCALENDAR
VERSION:2.0
PRODID:-//ChamberMaster//Event Calendar 2.0//EN
METHOD:PUBLISH
X-PUBLISHED-TTL:P3D
REFRESH-INTERVAL:P3D
CALSCALE:GREGORIAN
BEGIN:VEVENT
DTSTART:20260307T033000Z
DTEND:20260307T053000Z
X-MICROSOFT-CDO-ALLDAYEVENT:FALSE
SUMMARY:Fleetwood Magic\, Canada's Authentic Tribute to Fleetwood Mac at Cowichan Performing Arts Centre
DESCRIPTION:Fleetwood Magic\, Canada's Authentic Tribute to Fleetwood Mac will perfrom at Cowichan Performing Arts Centre in Duncan\, BC on Friday March 6\, 2026! Tickets on sale now! Fleetwood Magic Tribute Show masterfully transports audiences in sound and time through a musical journey performing Fleetwood Mac's greatest hits\, authentically recreating the sound\, style and mystique of Fleetwood Mac's most iconic line-up. With stunning vintage costumes\, soaring vocals\, period-accurate instrumentation\, and enchanting on-stage personas\, Fleetwood Magic delivers a live experience that reminds fans why Fleetwood Mac remains legendary. Relive timeless classics like "Rhiannon\," "Dreams\," "You Make Loving Fun\," "Say You Love Me\," "The Chain\," "Go Your Own Way." Listeners have come to realize the 'Rumours' are true   Fleetwood Magic does indeed\, deliver the magic! Captivating audiences across the Vancouver Lower Mainland and Western Canada\, their shows have become a must see event for Fleetwood Mac music fans of all ages! For more information about Fleetwood Magic\, please visit: www.fleetwoodmagic.ca
X-ALT-DESC;FMTTYPE=text/html:Fleetwood Magic\, Canada&#39\;s Authentic Tribute to Fleetwood Mac will perfrom at Cowichan Performing Arts Centre in Duncan\, BC on Friday March 6\, 2026! Tickets on sale now! Fleetwood Magic Tribute Show masterfully transports audiences in sound and time through a musical journey performing Fleetwood Mac&rsquo\;s greatest hits\, authentically recreating the sound\, style and mystique of Fleetwood Mac&rsquo\;s most iconic line-up. With stunning vintage costumes\, soaring vocals\, period-accurate instrumentation\, and enchanting on-stage personas\, Fleetwood Magic delivers a live experience that reminds fans why Fleetwood Mac remains legendary. Relive timeless classics like &ldquo\;Rhiannon\,&rdquo\; &ldquo\;Dreams\,&rdquo\; &ldquo\;You Make Loving Fun\,&rdquo\; &ldquo\;Say You Love Me\,&rdquo\; &ldquo\;The Chain\,&rdquo\; &ldquo\;Go Your Own Way.&rdquo\; Listeners have come to realize the &lsquo\;Rumours&rsquo\; are true &ndash\; Fleetwood Magic does indeed\, deliver the magic! Captivating audiences across the Vancouver Lower Mainland and Western Canada\, their shows have become a must see event for Fleetwood Mac music fans of all ages! For more information about Fleetwood Magic\, please visit: www.fleetwoodmagic.ca
LOCATION:Cowichan Performing Arts Centre
UID:e.1867.13770
SEQUENCE:3
DTSTAMP:20260426T000816Z
URL:https://www.duncancc.bc.ca/events/details/fleetwood-magic-canada-s-authentic-tribute-to-fleetwood-mac-at-cowichan-performing-arts-centre-13770
END:VEVENT

END:VCALENDAR
