BEGIN:VCALENDAR
VERSION:2.0
PRODID:-//ChamberMaster//Event Calendar 2.0//EN
METHOD:PUBLISH
X-PUBLISHED-TTL:P3D
REFRESH-INTERVAL:P3D
CALSCALE:GREGORIAN
BEGIN:VEVENT
DTSTART:20151024T220000Z
DTEND:20151025T013000Z
X-MICROSOFT-CDO-ALLDAYEVENT:FALSE
SUMMARY:Haunted Dojo - Kids Halloween Party & Charity FUNdraiser
DESCRIPTION:Haunted Dojo - Spooky Stations\, Prizes\, Halloween Safety Tips\, Bake Sale\, Silent Auction\, Costume Contest and more! Admission is by donation with ALL proceeds from the event going to the Children's Health Foundation of Vancouver Island! Come have some spooky fun and help raise funds for an amazing cause. RSVP to be entered to win a door prize! www.tinyurl.com/haunteddojo 3:00-3:30pm - Little One Friendly 5:00-6:30pm - For The Brave!
X-ALT-DESC;FMTTYPE=text/html:Haunted Dojo - Spooky Stations\, Prizes\, Halloween Safety Tips\, Bake Sale\, Silent Auction\, Costume Contest and more! Admission is by donation with ALL proceeds from the event going to the Children&#39\;s Health Foundation of Vancouver Island! Come have some spooky fun and help raise funds for an amazing cause. RSVP to be entered to win a door prize! www.tinyurl.com/haunteddojo 3:00-3:30pm - Little One Friendly 5:00-6:30pm - For The Brave!
LOCATION:5833 York Road\, Duncan BC
UID:e.1867.3866
SEQUENCE:3
DTSTAMP:20260422T154354Z
URL:https://www.duncancc.bc.ca/events/details/haunted-dojo-kids-halloween-party-charity-fundraiser-10-24-2015-3866
END:VEVENT

END:VCALENDAR
