BEGIN:VCALENDAR
VERSION:2.0
PRODID:-//ChamberMaster//Event Calendar 2.0//EN
METHOD:PUBLISH
X-PUBLISHED-TTL:P3D
REFRESH-INTERVAL:P3D
CALSCALE:GREGORIAN
BEGIN:VEVENT
DTSTART:20260102T190000Z
DTEND:20260201T000000Z
X-MICROSOFT-CDO-ALLDAYEVENT:FALSE
SUMMARY:Inspired by the Island
DESCRIPTION:For 32 years\, Imagine That! has hosted hand-made creations by artists from Vancouver Island and area. Our display windows are filled with a tempting array. You'll discover inspiring artwork at Imagine That! in downtown Duncan. Please note: Imagine That! is closed for our annual winter break January 19   February 2\, 2026.
X-ALT-DESC;FMTTYPE=text/html:For 32 years\, Imagine That! has hosted hand-made creations by artists from Vancouver Island and area. Our display windows are filled with a tempting array. You&rsquo\;ll discover inspiring artwork at Imagine That! in downtown Duncan. Please note: Imagine That! is closed for our annual winter break January 19 &ndash\; February 2\, 2026.
LOCATION:Imagine That! 251 Craig Street Duncan
UID:e.1867.13791
SEQUENCE:3
DTSTAMP:20260426T042233Z
URL:https://www.duncancc.bc.ca/events/details/inspired-by-the-island-01-02-2026-13791
END:VEVENT

END:VCALENDAR
