BEGIN:VCALENDAR
VERSION:2.0
PRODID:-//ChamberMaster//Event Calendar 2.0//EN
METHOD:PUBLISH
X-PUBLISHED-TTL:P3D
REFRESH-INTERVAL:P3D
CALSCALE:GREGORIAN
BEGIN:VEVENT
DTSTART:20181201T180000Z
DTEND:20181201T230000Z
X-MICROSOFT-CDO-ALLDAYEVENT:FALSE
SUMMARY:Inspired Crafted Christmas Market
DESCRIPTION:We selected a wonderful collective of 65 high quality artists\, designers and makers for Inspired Crafted Christmas Market. It happens Saturday\, Dec 1st from 10 to 3 at TWO halls\, Cobble Hill Hall and Stu Armour building in the heart of Cobble Hill Village. Great local producers on site Farm's Gate Catering\, Black & White Coffee Roasters\, Vinny's Gourmet Dogs & Island Mini Donuts. Always a Free event! Free parking! Wheelchair & stroller friendly! View the event on FB at Inspired Crafted Markets page\, go to the event discussion tab as we continue to add vendor bios. Hope you can make us part of your day!
X-ALT-DESC;FMTTYPE=text/html:We selected a wonderful collective of 65 high quality artists\, designers and makers for Inspired Crafted Christmas Market. It happens Saturday\, Dec 1st from 10 to 3 at TWO halls\, Cobble Hill Hall and Stu Armour building in the heart of Cobble Hill Village. Great local producers on site Farm&rsquo\;s Gate Catering\, Black &amp\; White Coffee Roasters\, Vinny&rsquo\;s Gourmet Dogs &amp\; Island Mini Donuts. Always a Free event! Free parking! Wheelchair &amp\; stroller friendly! View the event on FB at Inspired Crafted Markets page\, go to the event discussion tab as we continue to add vendor bios. Hope you can make us part of your day!
LOCATION:3550 Watson Ave & 1438 Fisher Rd Cobble Hill Hall & Stu Armour Building Cobble Hill BC
UID:e.1867.6849
SEQUENCE:3
DTSTAMP:20260426T034348Z
URL:https://www.duncancc.bc.ca/events/details/inspired-crafted-christmas-market-6849
END:VEVENT

END:VCALENDAR
