BEGIN:VCALENDAR
VERSION:2.0
PRODID:-//ChamberMaster//Event Calendar 2.0//EN
METHOD:PUBLISH
X-PUBLISHED-TTL:P3D
REFRESH-INTERVAL:P3D
CALSCALE:GREGORIAN
BEGIN:VEVENT
DTSTART:20151115T200000Z
DTEND:20151116T000000Z
X-MICROSOFT-CDO-ALLDAYEVENT:FALSE
SUMMARY:James Barber Long Table Dinner
DESCRIPTION:Join us for a long table dinner in honour of James Barber (The Urban Peasant) to support the food programs at Providence Farm. The theme this year is Fire and Smoke\, a menu showcasing six courses of local food sourced from the Farm and area\, and paired with fine local wines\, ciders\, beers and even a cocktail. Great talent of the area have come together\, including chef Bill Jones\, Allan Aikman\, Cory Pelan\, Dan Hudson\, Janice Mansfield\, Rob Martin & Ian Blom. Tickets are $100\, available online at www.providence.bc.ca or at the Farm Store\, at 1843 Tzouhalem Rd.
X-ALT-DESC;FMTTYPE=text/html:Join us for a long table dinner in honour of James Barber (The Urban Peasant) to support the food programs at Providence Farm. The theme this year is Fire and Smoke\, a menu showcasing six courses of local food sourced from the Farm and area\, and paired with fine local wines\, ciders\, beers and even a cocktail. Great talent of the area have come together\, including chef Bill Jones\, Allan Aikman\, Cory Pelan\, Dan Hudson\, Janice Mansfield\, Rob Martin &amp\; Ian Blom. Tickets are $100\, available online at www.providence.bc.ca or at the Farm Store\, at 1843 Tzouhalem Rd.
LOCATION:Providence Farm\, 1843 Tzouhalem Rd\, Duncan\, BC
UID:e.1867.3870
SEQUENCE:3
DTSTAMP:20260422T144650Z
URL:https://www.duncancc.bc.ca/events/details/james-barber-long-table-dinner-11-15-2015-3870
END:VEVENT

END:VCALENDAR
