BEGIN:VCALENDAR
VERSION:2.0
PRODID:-//ChamberMaster//Event Calendar 2.0//EN
METHOD:PUBLISH
X-PUBLISHED-TTL:P3D
REFRESH-INTERVAL:P3D
CALSCALE:GREGORIAN
BEGIN:VEVENT
DTSTART:20260426T180000Z
DTEND:20260426T180000Z
X-MICROSOFT-CDO-ALLDAYEVENT:FALSE
SUMMARY:Linda Richter: Hand-Built Clay
DESCRIPTION:Linda has experimented with many art forms and mediums. She became fascinated with hand building and sculpting in clay 25 years ago and has attended courses in California and in Canada. Clay permits the expression of Linda?s humour and soulful imagination through the earthy and often whimsical characters she creates for home and garden.
X-ALT-DESC;FMTTYPE=text/html:Linda has experimented with many art forms and mediums. She became fascinated with hand building and sculpting in clay 25 years ago and has attended courses in California and in Canada. Clay permits the expression of Linda?s humour and soulful imagination through the earthy and often whimsical characters she creates for home and garden.
LOCATION:Imagine That! 251 Craig Street Duncan
UID:e.1867.14073
SEQUENCE:3
DTSTAMP:20260420T213220Z
URL:https://www.duncancc.bc.ca/events/details/linda-richter-hand-built-clay-04-26-2026-14073
END:VEVENT

END:VCALENDAR
