BEGIN:VCALENDAR
VERSION:2.0
PRODID:-//ChamberMaster//Event Calendar 2.0//EN
METHOD:PUBLISH
X-PUBLISHED-TTL:P3D
REFRESH-INTERVAL:P3D
CALSCALE:GREGORIAN
BEGIN:VEVENT
DTSTART:20260206T160000Z
DTEND:20260206T170000Z
X-MICROSOFT-CDO-ALLDAYEVENT:FALSE
SUMMARY:Morning Member Meetup | Let's Mingle Fri Feb 6
DESCRIPTION:Join us for an energizing morning re-connecting with members and meeting new ones. You requested coffee\, check! You requested morning snacks\, check! You requested meeting other members\, check! and you requested fun\, check! \n\nIf you missed our Networking activity at our last Morning Meet Up\, you're in luck! We're bringing it back! \n\nCoffee and light refreshments provided.
X-ALT-DESC;FMTTYPE=text/html:<h3><span style="font-size: 14px\; color: rgb(0\, 0\, 0)\; font-weight: normal\;">Join us for an energizing morning re-connecting with members and meeting new ones. You requested coffee\, check! You requested morning snacks\, check! You requested meeting other members\, check! and you requested fun\, check! </span></h3>\n\n<p><span style="color: rgb(0\, 0\, 0)\;">If you missed our Networking activity at our last Morning Meet Up\, you&#39\;re in luck! We&#39\;re bringing it back!</span><span style="color: rgb(28\, 65\, 154)\;"> </span></p>\n\n<p data-end="1071" data-start="977"><strong data-end="1069" data-start="1026">Coffee and light refreshments provided.</strong></p>\n
LOCATION:Cowichan Regional Visitor Centre 2896 Drinkwater Road Duncan\, BC V9L 6C2
UID:e.1867.13802
SEQUENCE:3
DTSTAMP:20260426T025656Z
URL:https://www.duncancc.bc.ca/events/details/morning-member-meetup-let-s-mingle-fri-feb-6-13802
END:VEVENT

END:VCALENDAR
