BEGIN:VCALENDAR
VERSION:2.0
PRODID:-//ChamberMaster//Event Calendar 2.0//EN
METHOD:PUBLISH
X-PUBLISHED-TTL:P3D
REFRESH-INTERVAL:P3D
CALSCALE:GREGORIAN
BEGIN:VEVENT
DTSTART;VALUE=DATE:20151113
DTEND;VALUE=DATE:20151128
TRANSP:TRANSPARENT
X-MICROSOFT-CDO-ALLDAYEVENT:TRUE
SUMMARY:Pass the Torch
DESCRIPTION:As athletes and communities around the world start preparing for the 2016 Summer Olympics\, the Cowichan community is getting ready to ?Pass the Torch?. When you become a ?Torch Bearer? ($100) we hand you the ?Torch? (a 24-inch trophy) and post your photo on Facebook\, and you help raise awareness of the importance of health & fitness in our lives. This sets a great example to our youth\, and it?s fun! The Torch travels throughout the community from Nov 13 to 27. If you believe ?Our Health is Our Future?\, and support the Cowichan Sportsplex\, email torch@cowichansportsplex.com. For more information visit www.cowichansportsplex.com.
X-ALT-DESC;FMTTYPE=text/html:As athletes and communities around the world start preparing for the 2016 Summer Olympics\, the Cowichan community is getting ready to ?Pass the Torch?. When you become a ?Torch Bearer? ($100) we hand you the ?Torch? (a 24-inch trophy) and post your photo on Facebook\, and you help raise awareness of the importance of health &amp\; fitness in our lives. This sets a great example to our youth\, and it?s fun! The Torch travels throughout the community from Nov 13 to 27. If you believe ?Our Health is Our Future?\, and support the Cowichan Sportsplex\, email torch@cowichansportsplex.com. For more information visit www.cowichansportsplex.com.
LOCATION:Cowichan Region
UID:e.1867.3872
SEQUENCE:3
DTSTAMP:20260422T144516Z
URL:https://www.duncancc.bc.ca/events/details/pass-the-torch-11-13-2015-3872
END:VEVENT

END:VCALENDAR
