BEGIN:VCALENDAR
VERSION:2.0
PRODID:-//ChamberMaster//Event Calendar 2.0//EN
METHOD:PUBLISH
X-PUBLISHED-TTL:P3D
REFRESH-INTERVAL:P3D
CALSCALE:GREGORIAN
BEGIN:VEVENT
DTSTART:20260214T020000Z
DTEND:20260214T040000Z
X-MICROSOFT-CDO-ALLDAYEVENT:FALSE
SUMMARY:Pint & Paint Night
DESCRIPTION:Celebrate Valentine's Day with a playful twist at Pint & Paint Night\, where you'll sip a pint and create blind portraits of your partner or bestie. A fun\, lighthearted evening that turns imperfect art into unforgettable memories. One ticket per pair   One ticket provides everything you need for two people to enjoy the experience together. All painting supplies included brushes\, paints\, canvas and an easel to display your creation.
X-ALT-DESC;FMTTYPE=text/html:Celebrate Valentine&rsquo\;s Day with a playful twist at Pint &amp\; Paint Night\, where you&rsquo\;ll sip a pint and create blind portraits of your partner or bestie. A fun\, lighthearted evening that turns imperfect art into unforgettable memories. One ticket per pair &ndash\; One ticket provides everything you need for two people to enjoy the experience together. All painting supplies included&mdash\;brushes\, paints\, canvas and an easel to display your creation.
LOCATION:Merridale Cidery & Distillery
UID:e.1867.13794
SEQUENCE:3
DTSTAMP:20260426T013208Z
URL:https://www.duncancc.bc.ca/events/details/pint-paint-night-02-13-2026-13794
END:VEVENT

END:VCALENDAR
