BEGIN:VCALENDAR
VERSION:2.0
PRODID:-//ChamberMaster//Event Calendar 2.0//EN
METHOD:PUBLISH
X-PUBLISHED-TTL:P3D
REFRESH-INTERVAL:P3D
CALSCALE:GREGORIAN
BEGIN:VEVENT
DTSTART:20150913T020000Z
DTEND:20150913T040000Z
X-MICROSOFT-CDO-ALLDAYEVENT:FALSE
SUMMARY:"Shifty Sailors" Maritime Performers
DESCRIPTION:Join the members of the Cowichan Wooden Boat Society for a fun evening with the internationally acclaimed Shifty Sailors\, a 16-member maritime singing group from Whidbey Island\, Washington. Although close neighbours\, this is the Shifties first tour to the Island. They have performed their traditional shanty and other seafaring music as far afield as Eastern Europe and Hawaii. Visit their website (www.shiftysailors.net) for a musical taste! Performing on the pier at the Cowichan Bay Maritime Centre on Saturday\, September 12 at 7 p.m.\, guests will enjoy songs and shanties from their six CD?s\, also for sale at the concert. One of only four Canadian appearances this year\, their Vancouver Island tour will kick-off in Cowichan Bay. As the Cowichan Bay Maritime Centre is owned and operated by the non-profit Cowichan Wooden Boat Society\, the community's involvement with fundraisers such as this is greatly appreciated. It helps the Society to actively work to preserve\, instruct and develop the skills of wooden boat building and related arts. Entry includes nautical appetizers with drinks available. We guarantee you'll leave humming the music and perhaps even clutching a CD for future enjoyment!
X-ALT-DESC;FMTTYPE=text/html:Join the members of the Cowichan Wooden Boat Society for a fun evening with the internationally acclaimed Shifty Sailors\, a 16-member maritime singing group from Whidbey Island\, Washington. Although close neighbours\, this is the Shifties first tour to the Island. They have performed their traditional shanty and other seafaring music as far afield as Eastern Europe and Hawaii. Visit their website (www.shiftysailors.net) for a musical taste! Performing on the pier at the Cowichan Bay Maritime Centre on Saturday\, September 12 at 7 p.m.\, guests will enjoy songs and shanties from their six CD?s\, also for sale at the concert. One of only four Canadian appearances this year\, their Vancouver Island tour will kick-off in Cowichan Bay. As the Cowichan Bay Maritime Centre is owned and operated by the non-profit Cowichan Wooden Boat Society\, the community&#39\;s involvement with fundraisers such as this is greatly appreciated. It helps the Society to actively work to preserve\, instruct and develop the skills of wooden boat building and related arts. Entry includes nautical appetizers with drinks available. We guarantee you&#39\;ll leave humming the music and perhaps even clutching a CD for future enjoyment!
LOCATION:1761 Cowichan Bay Road\, Cowichan Bay\, BC
UID:e.1867.2843
SEQUENCE:3
DTSTAMP:20260422T170845Z
URL:https://www.duncancc.bc.ca/events/details/shifty-sailors-maritime-performers-09-12-2015-2843
END:VEVENT

END:VCALENDAR
