BEGIN:VCALENDAR
VERSION:2.0
PRODID:-//ChamberMaster//Event Calendar 2.0//EN
METHOD:PUBLISH
X-PUBLISHED-TTL:P3D
REFRESH-INTERVAL:P3D
CALSCALE:GREGORIAN
BEGIN:VEVENT
DTSTART:20260208T190000Z
DTEND:20260208T230000Z
X-MICROSOFT-CDO-ALLDAYEVENT:FALSE
SUMMARY:Sweetheart Market
DESCRIPTION:Discover thoughtful gifts\, artisan treats\, and Valentine's Day treasures at Merridale's Sweetheart Market. This charming winter market is made for browsing\, sipping\, and celebrating love in all its forms. Follow us on social @merridalecidery to see which makers are joining us and for details on our Sweetheart Market giveaway.
X-ALT-DESC;FMTTYPE=text/html:Discover thoughtful gifts\, artisan treats\, and Valentine&rsquo\;s Day treasures at Merridale&rsquo\;s Sweetheart Market. This charming winter market is made for browsing\, sipping\, and celebrating love in all its forms. Follow us on social @merridalecidery to see which makers are joining us&mdash\;and for details on our Sweetheart Market giveaway.
LOCATION:Merridale Cidery & Distillery
UID:e.1867.13793
SEQUENCE:3
DTSTAMP:20260426T025538Z
URL:https://www.duncancc.bc.ca/events/details/sweetheart-market-13793
END:VEVENT

END:VCALENDAR
