BEGIN:VCALENDAR
VERSION:2.0
PRODID:-//ChamberMaster//Event Calendar 2.0//EN
METHOD:PUBLISH
X-PUBLISHED-TTL:P3D
REFRESH-INTERVAL:P3D
CALSCALE:GREGORIAN
BEGIN:VEVENT
DTSTART:20260426T180000Z
DTEND:20260426T180000Z
X-MICROSOFT-CDO-ALLDAYEVENT:FALSE
SUMMARY:Todd McAneeley: Wood Artistry
DESCRIPTION:Todd is well-known for his live edge mirrors and headboards. He often enhances his furniture pieces by adding carved sculptural elements which capture nature in a distinctive way. His artistry celebrates the beauty of our local woods.
X-ALT-DESC;FMTTYPE=text/html:Todd is well-known for his live edge mirrors and headboards. He often enhances his furniture pieces by adding carved sculptural elements which capture nature in a distinctive way. His artistry celebrates the beauty of our local woods.
LOCATION:Imagine That! 251 Craig Street Duncan
UID:e.1867.14045
SEQUENCE:3
DTSTAMP:20260420T211535Z
URL:https://www.duncancc.bc.ca/events/details/todd-mcaneeley-wood-artistry-04-26-2026-14045
END:VEVENT

END:VCALENDAR
