BEGIN:VCALENDAR
VERSION:2.0
PRODID:-//ChamberMaster//Event Calendar 2.0//EN
METHOD:PUBLISH
X-PUBLISHED-TTL:P3D
REFRESH-INTERVAL:P3D
CALSCALE:GREGORIAN
BEGIN:VEVENT
DTSTART:20260301T030000Z
DTEND:20260301T050000Z
X-MICROSOFT-CDO-ALLDAYEVENT:FALSE
SUMMARY:Vancouver Island Whisky Festival
DESCRIPTION:Discover the depth\, character\, and craftsmanship of Vancouver Island whisky at this inaugural\, island-exclusive tasting experience. Your evening includes a curated selection of pours\, thoughtful pairings\, and access to mini-sessions led by experts in the craft. Expect an atmosphere that feels luxurious yet grounded in the natural beauty and creative spirit of Vancouver Island. Each ticket includes: A glencairn tasting glass 8 tokens redeemable for whisky samples + small food pairings Access to mini educational sessions throughout the evening From emerging distillers to established favourites\, this is your chance to explore the future of Vancouver Island whisky   all in one refined\, welcoming setting.
X-ALT-DESC;FMTTYPE=text/html:Discover the depth\, character\, and craftsmanship of Vancouver Island whisky at this inaugural\, island-exclusive tasting experience. Your evening includes a curated selection of pours\, thoughtful pairings\, and access to mini-sessions led by experts in the craft. Expect an atmosphere that feels luxurious yet grounded in the natural beauty and creative spirit of Vancouver Island. Each ticket includes: A glencairn tasting glass 8 tokens redeemable for whisky samples + small food pairings Access to mini educational sessions throughout the evening From emerging distillers to established favourites\, this is your chance to explore the future of Vancouver Island whisky &mdash\; all in one refined\, welcoming setting.
LOCATION:Merridale Cidery & Distillery
UID:e.1867.13801
SEQUENCE:3
DTSTAMP:20260426T013624Z
URL:https://www.duncancc.bc.ca/events/details/vancouver-island-whisky-festival-13801
END:VEVENT

END:VCALENDAR
